BEGIN:VCALENDAR
VERSION:2.0
METHOD:PUBLISH
X-WR-CALNAME:Mercociudades |  noviembre 07 2018- noviembre 07 2018
PRODID:-//strange bird labs//Drupal iCal API//EN
BEGIN:VEVENT
DTSTAMP;VALUE=DATE-TIME:20260425T164953Z
DTSTART;VALUE=DATE-TIME:20181105T145000Z
DTEND;VALUE=DATE-TIME:20020203
UID:http://portal.mercociudades.net/node/6697
URL;VALUE=URI:http://portal.mercociudades.net/node/6697
SUMMARY:Participación de Mercociudades en el Consejo Mundial de CGLU
DESCRIPTION:<p>Participaci&oacute\;n de Mercociudades en el Consejo Mundial de la Red Mundial de Ciudades y Gobiernos Locales y Regionales (CGLU)\, en Madrid\, Espa&ntilde\;a.</p>
 <p><a href=\\"http\://www.uclg.org/es\\">M&aacute\;s informaci&oacute\;n </a></p>
 <p>&nbsp\;</p>
 
END:VEVENT
BEGIN:VEVENT
DTSTAMP;VALUE=DATE-TIME:20260425T164953Z
DTSTART;VALUE=DATE-TIME:20181105T145300Z
DTEND;VALUE=DATE-TIME:20020203
UID:http://portal.mercociudades.net/node/6698
URL;VALUE=URI:http://portal.mercociudades.net/node/6698
SUMMARY:XI Foro Iberoamericano de Gobiernos Locales
DESCRIPTION:<p>XI Foro Iberoamericano de Gobiernos Locales\, en Madrid\, Espa&ntilde\;a.</p>
 <p><a href=\\"http\://www.ciudadesiberoamericanas.org\\">M&aacute\;s informaci&oacute\;n</a>&nbsp\;</p>
 
END:VEVENT
BEGIN:VEVENT
DTSTAMP;VALUE=DATE-TIME:20260425T164953Z
DTSTART;VALUE=DATE-TIME:20181105T145600Z
DTEND;VALUE=DATE-TIME:20020203
UID:http://portal.mercociudades.net/node/6699
URL;VALUE=URI:http://portal.mercociudades.net/node/6699
SUMMARY:II Foro Mundial sobre las Violencias Urbanas y Educación para la Convivencia y la Paz
DESCRIPTION:<p>II Foro Mundial sobre las Violencias Urbanas y Educaci&oacute\;n para la Convivencia y la Paz\, en Madrid\, Espa&ntilde\;a.</p>
 <p><a href=\\"http\://www.ciudadesiberoamericanas.org\\">M&aacute\;s informaci&oacute\;n </a></p>
 
END:VEVENT
END:VCALENDAR
